BEGIN:VCALENDAR
PRODID:-//hacksw/handcal//NONSGML v1.0//EN
VERSION:2.0
METHOD:PUBLISH
BEGIN:VEVENT
DTSTART:20260504T220000Z
DTEND:20260504T230000Z
LOCATION:
UID:2821620260504T220000ZLegislative Update
DTSTAMP:20260425T120631Z
DESCRIPTION:
SUMMARY:Legislative Update - Estate Planning Council of Middle Tennessee 
PRIORITY:3
BEGIN:VALARM
TRIGGER:PT18H
ACTION:DISPLAY
DESCRIPTION:Reminder
END:VALARM
END:VEVENT
END:VCALENDAR